BEGIN:VCALENDAR
VERSION:2.0
CALSCALE:GREGORIAN
PRODID:-//MyApp//Calendar 1.0//EN
BEGIN:VEVENT
METHOD:PUBLISH
UID:62220@regionalniportaly.cz
DTSTAMP:20260420T071803Z
DTSTART;VALUE=DATE:20260516
DTEND;VALUE=DATE:20260517
SUMMARY:Na hradě s Danielou Kolářovou a Jaromírem Hanzlíkem
DESCRIPTION:Nenechte si ujít jedinečnou příležitost být svědky exkluzivní talkshow s dvěma ikonami českého filmu a divadla – Danielou Kolářovou a Jaromírem Hanzlíkem. V malebném prostředí historického hradu Křivoklát je bude zpovídat moderátor Jiří Vaníček.Připomeňte si s námi nezapomenutelné role\, zákulisní historky a postřehy z bohaté herecké kariéry těchto dvou výjimečných umělců.&nbsp\;&nbsp\;Akce bude probíhat v rytířském sále
LOCATION:Křivoklát
END:VEVENT
END:VCALENDAR