BEGIN:VCALENDAR
VERSION:2.0
CALSCALE:GREGORIAN
PRODID:-//MyApp//Calendar 1.0//EN
BEGIN:VEVENT
METHOD:PUBLISH
UID:62372@regionalniportaly.cz
DTSTAMP:20260420T091516Z
DTSTART;VALUE=DATE:20260226
DTEND;VALUE=DATE:20260227
SUMMARY:Hop Trop
DESCRIPTION:Skupina Hop Trop - Ladislav Huberťák Kučera\, Jaroslav Samson Lenk a Jaromír Šroub Vondra - je legendou v oblasti folk a trampské hudby. &nbsp\;Na scéně působí čtyřicet šest let v původním složení. Mezi písničky\, které zlidověly\, patří Tři kříže\, Amazonka\, Jonatán\, Vodácká holka a dalši
LOCATION:Beroun
END:VEVENT
END:VCALENDAR