BEGIN:VCALENDAR
VERSION:2.0
CALSCALE:GREGORIAN
PRODID:-//MyApp//Calendar 1.0//EN
BEGIN:VEVENT
METHOD:PUBLISH
UID:63023@regionalniportaly.cz
DTSTAMP:20260420T091701Z
DTSTART;VALUE=DATE:20260328
DTEND;VALUE=DATE:20260329
SUMMARY:Zdeněk Svěrák 90
DESCRIPTION:Přímý přenos oslavy 90. narozenin Zdeňka SvěrákaSpisovatel\, herec\, textař a cimrmanolog Zdeněk Svěrák oslaví 90. narozeniny. Svou kariéru nastartoval v polovině šedesátých let mystifikačním rozhlasovým pořadem Nealkoholická vinárna U Pavouka. Právě k tomu se po šedesáti letech vrátíme. Do improvizované vinárny na jevišti Žižkovského divadla Járy Cimrmana přijdou oslavenci 28. března 2026 gratulovat Daniela Kolářová\, Petr Nárožný\, Bolek Polívka\, Karel Šíp\, Tomáš Klus\,&nbsp\;Iva Janžurová\, Miroslav Táborský\, Tereza Ramba\, Michal Horáček\, Anna K.\, Marek Eben\, Juraj Kukura\, Jaromír Hanzlík\, členové DJC&nbsp\;a desítky dalších hostů. Moderují Vladimír Kroc a Tomáš Maleček.&nbsp\;Část výtěžku ze vstupného bude věnována na podporu Centra Paraple\, které pomáhá lidem po poranění míchy a jejich rodinám.&nbsp\;&nbsp\;28. března 2026 v 18:30přímý přenosvstupné 250 KčPředpokládaná délka přenosu 90 minut
LOCATION:Řevnice
END:VEVENT
END:VCALENDAR