BEGIN:VCALENDAR
VERSION:2.0
CALSCALE:GREGORIAN
PRODID:-//MyApp//Calendar 1.0//EN
BEGIN:VEVENT
METHOD:PUBLISH
UID:63804@regionalniportaly.cz
DTSTAMP:20260420T085801Z
DTSTART;VALUE=DATE:20260321
DTEND;VALUE=DATE:20260322
SUMMARY:ZABIJAČKA NA OKOŘI
DESCRIPTION:Tradiční zabijačka\, vůně guláše\, ovar\, tlačenka\, škvarky…prostě klasika\, jak má být.&nbsp\;👉 přijďte na jídlo\, atmosféru a pohodu👉 teplé nápoje\, občerstvení\, místo k sezení👉 super den na výlet i s rodinou
LOCATION:Okoř
END:VEVENT
END:VCALENDAR